BEGIN:VCALENDAR
VERSION:2.0
PRODID:-//wp-events-plugin.com//7.2.3.1//EN
BEGIN:VEVENT
UID:9@foerderverein-muenzinghof.de
DTSTART:20260620T120000Z
DTEND:20260620T150000Z
DTSTAMP:20251109T155512Z
URL:https://foerderverein-muenzinghof.de/events/mitgliederversammlung-2026
SUMMARY:Mitgliederversammlung 2026
DESCRIPTION:Die nächste Mitgliederversammlung findet wie immer im Rahmen d
 es Familientreffens am 20. Juni 2026 statt.
END:VEVENT
END:VCALENDAR